BEGIN:VCALENDAR
VERSION:2.0
PRODID:-// - ECPv6.15.20//NONSGML v1.0//EN
CALSCALE:GREGORIAN
METHOD:PUBLISH
X-ORIGINAL-URL:https://masonfororegon.com
X-WR-CALDESC:Events for 
REFRESH-INTERVAL;VALUE=DURATION:PT1H
X-Robots-Tag:noindex
X-PUBLISHED-TTL:PT1H
BEGIN:VTIMEZONE
TZID:UTC
BEGIN:STANDARD
TZOFFSETFROM:+0000
TZOFFSETTO:+0000
TZNAME:UTC
DTSTART:20210101T000000
END:STANDARD
END:VTIMEZONE
BEGIN:VEVENT
DTSTART;TZID=UTC:20220905T170000
DTEND;TZID=UTC:20220905T190000
DTSTAMP:20260423T151107
CREATED:20220815T150248Z
LAST-MODIFIED:20220815T150329Z
UID:1079-1662397200-1662404400@masonfororegon.com
SUMMARY:Show Up for East County - Picnic & Fundraiser with Rep. Earl Blumenauer
DESCRIPTION:Dear Neighbor\,Multnomah County is usually assumed to be a Democratic stronghold\, but four East County legislative candidates are running in tough races this November. Darcy Long\, Ricki Ruiz\, Zach Hudson and Raz Mason are ready to roll up their sleeves and get to work\, but they need your help. Please join them\, Congressman Earl Blumenauer\, and Democratic Party of Oregon Vice Chair Dr. Rosa Colquitt for a barbecue fundraiser with trivia and karaoke this Labor Day (Monday Sept. 5th) from 5:00 to 7:00 at Red Sunset Park in Gresham. Let’s show how Multnomah County Democrats show up for East County! \n\n\n\n\n\n\n\nRSVP here!
URL:https://masonfororegon.com/event/show-up-for-east-county/
END:VEVENT
BEGIN:VEVENT
DTSTART;TZID=UTC:20220416T093000
DTEND;TZID=UTC:20220416T110000
DTSTAMP:20260423T151107
CREATED:20220414T224446Z
LAST-MODIFIED:20220414T224957Z
UID:568-1650101400-1650106800@masonfororegon.com
SUMMARY:Meet and Greet at the Gazebo\, Wait City Park
DESCRIPTION:We’ll be at the Gazebo at Wait City Park\, 9:30 – 11:00 am\, Saturday April 16th – eager to meet Canby-area voters. I look forward to listening to your concerns and issues.
URL:https://masonfororegon.com/event/meet-and-greet-at-the-gazeba-wait-city-park/
LOCATION:Wait City Park\, Canby\, OR\, 350 N Grant St\, Canby\, Oregon\, 97013\, United States
END:VEVENT
BEGIN:VEVENT
DTSTART;TZID=UTC:20220415T113000
DTEND;TZID=UTC:20220415T130000
DTSTAMP:20260423T151107
CREATED:20220414T230049Z
LAST-MODIFIED:20220414T230114Z
UID:578-1650022200-1650027600@masonfororegon.com
SUMMARY:Meet and Greet at AntFarm in Sandy
DESCRIPTION:Please join Team 26 in Sandy on Friday. Meet Raz Mason\, who is eager to hear about your concerns and issues.
URL:https://masonfororegon.com/event/meet-and-greet-at-antfarm-in/
LOCATION:AntFarm Cafe & Bakery\, 39140 Proctor Blvd\, Sandy\, OR\, Sandy\, Oregon\, 97055\, United States
END:VEVENT
BEGIN:VEVENT
DTSTART;TZID=UTC:20220414T160000
DTEND;TZID=UTC:20220414T173000
DTSTAMP:20260423T151107
CREATED:20220414T225535Z
LAST-MODIFIED:20220414T225538Z
UID:574-1649952000-1649957400@masonfororegon.com
SUMMARY:Meet and Greet at B's Bakery\, Canby
DESCRIPTION:Join us at B’s Bake Shoppe – we’re eager to meet Canby-area voters. Raz Mason looks forward to listening to your concerns and issues. \n\n\n\nYou can also pick up a yard sign and buttons.
URL:https://masonfororegon.com/event/meet-and-greet-at-bs-bakery-canby/
LOCATION:B’s Bake Shoppe\, 113 NW 2nd Ave\, Canby\, Oregon\, 97013\, United States
END:VEVENT
BEGIN:VEVENT
DTSTART;TZID=UTC:20220402T100000
DTEND;TZID=UTC:20220402T113000
DTSTAMP:20260423T151107
CREATED:20220325T175807Z
LAST-MODIFIED:20220325T175811Z
UID:426-1648893600-1648899000@masonfororegon.com
SUMMARY:Postcard Party
DESCRIPTION:Join Raz Mason and Team 26 for a virtual postcard-writing party. Please sign up ahead of time so we can get your postcards to you. We’ll chat and take turns choosing background tunes while writing encouraging voting messages to our rural neighbors. \n\n\n\nYou can sign up for a pack (50) or half-pack (25) – and finish them as your schedule allows.
URL:https://masonfororegon.com/event/postcard-party/
END:VEVENT
END:VCALENDAR